BEGIN:VCALENDAR
VERSION:2.0
PRODID:-//AROUND LAB NEWS - ECPv6.7.0//NONSGML v1.0//EN
CALSCALE:GREGORIAN
METHOD:PUBLISH
X-WR-CALNAME:AROUND LAB NEWS
X-ORIGINAL-URL:http://www.aroundlab.org/news
X-WR-CALDESC:Eventi per AROUND LAB NEWS
REFRESH-INTERVAL;VALUE=DURATION:PT1H
X-Robots-Tag:noindex
X-PUBLISHED-TTL:PT1H
BEGIN:VTIMEZONE
TZID:UTC
BEGIN:STANDARD
TZOFFSETFROM:+0000
TZOFFSETTO:+0000
TZNAME:UTC
DTSTART:20200101T000000
END:STANDARD
END:VTIMEZONE
BEGIN:VEVENT
DTSTART;VALUE=DATE:20200318
DTEND;VALUE=DATE:20200320
DTSTAMP:20260422T165955
CREATED:20191216T114518Z
LAST-MODIFIED:20191216T114519Z
UID:315-1584489600-1584662399@www.aroundlab.org
SUMMARY:Food Integrity 2020
DESCRIPTION:
URL:http://www.aroundlab.org/news/event/food-integrity-2020/
ATTACH;FMTTYPE=image/jpeg:http://www.aroundlab.org/news/wp-content/uploads/2019/12/Food-Integrity-2020-scaled.jpg
END:VEVENT
END:VCALENDAR