BEGIN:VCALENDAR
VERSION:2.0
PRODID:-//AROUND LAB NEWS - ECPv6.7.0//NONSGML v1.0//EN
CALSCALE:GREGORIAN
METHOD:PUBLISH
X-ORIGINAL-URL:http://www.aroundlab.org/news
X-WR-CALDESC:Eventi per AROUND LAB NEWS
REFRESH-INTERVAL;VALUE=DURATION:PT1H
X-Robots-Tag:noindex
X-PUBLISHED-TTL:PT1H
BEGIN:VTIMEZONE
TZID:UTC
BEGIN:STANDARD
TZOFFSETFROM:+0000
TZOFFSETTO:+0000
TZNAME:UTC
DTSTART:20200101T000000
END:STANDARD
END:VTIMEZONE
BEGIN:VEVENT
DTSTART;VALUE=DATE:20201123
DTEND;VALUE=DATE:20201126
DTSTAMP:20260422T134823
CREATED:20191119T101713Z
LAST-MODIFIED:20191119T101713Z
UID:305-1606089600-1606348799@www.aroundlab.org
SUMMARY:Saudi International Medlab Expo 2020
DESCRIPTION:The organizing committee would like to inform you that The Saudi Medlab Conference is back again with a great collaboration with The Saudi Society for Clinical Chemistry\, which will be held on the sidelines of The 2nd Saudi International Medlab Expo 2020 during the period 23 – 25 November 2020 from 8:00 AM to 3:00 PM at the Riyadh International Convention and Exhibition Center. The conference aims at presenting several topics related to medical laboratory science and will be discussed during the sessions. Conference topics: \n\nLaboratory Management\nLaboratory Accreditation\nLaboratory Quality Management\nLaboratory Total Automation\nLaboratory Test Utilization Strategies\nMedical Errors in Laboratory\nPre analytical Issues in the Laboratory\nPoint of Care Testing (POCT)\nAssay/Method/Instrument Validation & Verification\nPatient Safety\nIndustrial Workshops
URL:http://www.aroundlab.org/news/event/saudi-international-medlab-expo-2020/
ATTACH;FMTTYPE=image/jpeg:http://www.aroundlab.org/news/wp-content/uploads/2019/11/Saudi-International-Medlab-Expo-2020-scaled.jpg
END:VEVENT
BEGIN:VEVENT
DTSTART;VALUE=DATE:20201123
DTEND;VALUE=DATE:20201126
DTSTAMP:20260422T134823
CREATED:20191119T102055Z
LAST-MODIFIED:20191119T102055Z
UID:310-1606089600-1606348799@www.aroundlab.org
SUMMARY:Saudi International Pharma Expo 2020
DESCRIPTION:The 2nd Saudi International Pharma Expo is the only platform that brings together local and international companies specialized in the manufacture and marketing of medicines in the Kingdom of Saudi Arabia. The exhibition\, through the previous ones\, have succeeded to reach most of those who work and have interest in the pharmaceutical sector. It also attracted the most important international companies that offered the latest pharmaceutical formulas and technology supporting the pharmaceutical industry. \nThe sponsorship of the Ministry of Health for the activities of the exhibition makes it a unique opportunity for the participants to communicate with officials\, businessmen and investors in the health sector\, expand their work activity and conclude new agreements with both public and private sectors. \nYearly\, the exhibition attracts more than 13\,000 visitors from all over the world\, as well as executives from drug factories\, pharmacies\, hospitals and health centres from the Kingdom and abroad. The exhibition also receives excellent media coverage from local and international media and through social media platforms. \nSpecial Features and benefits of Participating in the Exhibition:\n\nHighlighting your brand.\nDirect communication with suppliers.\nIdentify the local and global market needs.\nHolding agreements with the participating parties.\nExplore new business and investment opportunities.\nMeeting businessmen and investors in the health sector.\nPromotion through the media and social media platforms.\nLearn about the latest technology and advanced technology.\nCommunicate with government agencies and health authorities.\nMarketing and offering products and services to target customers.\nExchange experiences and expertise with the participating parties.\nCommunicate with the most important local and international companies.\nPresentation of the company’s products in the best platform that is specialized in the manufacture and marketing of medicine.
URL:http://www.aroundlab.org/news/event/saudi-international-pharma-expo-2020/
ATTACH;FMTTYPE=image/jpeg:http://www.aroundlab.org/news/wp-content/uploads/2019/11/Saudi-International-Pharma-Expo-2020-scaled.jpg
END:VEVENT
BEGIN:VEVENT
DTSTART;VALUE=DATE:20201210
DTEND;VALUE=DATE:20201211
DTSTAMP:20260422T134823
CREATED:20200504T154551Z
LAST-MODIFIED:20200603T132715Z
UID:339-1607558400-1607644799@www.aroundlab.org
SUMMARY:Drug Supply Chain 2020\, Milano (Italy)
DESCRIPTION:DRUG SUPPLY CHAIN\nAlgoritmi predittivi e tracciabilità per una Logistica 4.0 sostenibile\n10 Dicembre 2020\, Milano – UNAHOTELS Expo Fiera\n10 Dicembre 2020\nhttps://www.labworld.it/evento/drug-supply-chain-2020-milano-italy/
URL:http://www.aroundlab.org/news/event/drug-supply-chain-2020-milano-italy/
LOCATION:Milano\, Milano\, Italia
CATEGORIES:Italia
END:VEVENT
BEGIN:VEVENT
DTSTART;VALUE=DATE:20210620
DTEND;VALUE=DATE:20210625
DTSTAMP:20260422T134823
CREATED:20210308T135041Z
LAST-MODIFIED:20210308T154552Z
UID:1118-1624147200-1624579199@www.aroundlab.org
SUMMARY:World Microbe Forum 2021
DESCRIPTION:This unique and special event\, a collaboration between the American Society for Microbiology (ASM) and the Federation of European Microbiological Societies (FEMS)\, is bringing together two of the biggest events in the microbial sciences\, ASM Microbe 2021 and FEMS2021\, to further science and help answer some of the most important questions impacting humankind. Additional scientific societies\, including the American Society for Virology (ASV) and the African Society for Laboratory Medicine (ASLM) will be key partners in this event. \nExplore the hottest topics in microbiology\, discussed like never before\, and offering unparalleled access to the latest innovative research across global perspectives. Create meaningful connections with peers from around the world. Be a part of this first-of-its-kind virtual meeting uniting the microbial sciences community.
URL:http://www.aroundlab.org/news/event/world-microbe-forum-2021/
CATEGORIES:Estero
ATTACH;FMTTYPE=image/jpeg:http://www.aroundlab.org/news/wp-content/uploads/2021/03/WMF2021_Prospectus_Final-2-scaled.jpg
END:VEVENT
END:VCALENDAR